BEGIN:VCALENDAR
VERSION:2.0
PRODID:-//OPEIU LOCAL 12 - ECPv6.15.20//NONSGML v1.0//EN
CALSCALE:GREGORIAN
METHOD:PUBLISH
X-WR-CALNAME:OPEIU LOCAL 12
X-ORIGINAL-URL:https://opeiu12.org
X-WR-CALDESC:Events for OPEIU LOCAL 12
REFRESH-INTERVAL;VALUE=DURATION:PT1H
X-Robots-Tag:noindex
X-PUBLISHED-TTL:PT1H
BEGIN:VTIMEZONE
TZID:UTC
BEGIN:STANDARD
TZOFFSETFROM:+0000
TZOFFSETTO:+0000
TZNAME:UTC
DTSTART:20230101T000000
END:STANDARD
END:VTIMEZONE
BEGIN:VEVENT
DTSTART;TZID=UTC:20260408T180000
DTEND;TZID=UTC:20260408T190000
DTSTAMP:20260420T064441
CREATED:20260310T145206Z
LAST-MODIFIED:20260310T145206Z
UID:10000045-1775671200-1775674800@opeiu12.org
SUMMARY:General Membership Eboard Meeting
DESCRIPTION:E Board Wednesdays at 6:00. Zoom unless otherwise noted
URL:https://opeiu12.org/event/general-membership-eboard-meeting-2/
END:VEVENT
BEGIN:VEVENT
DTSTART;TZID=UTC:20260318T180000
DTEND;TZID=UTC:20260318T190000
DTSTAMP:20260420T064441
CREATED:20260310T144350Z
LAST-MODIFIED:20260310T144351Z
UID:10000025-1773856800-1773860400@opeiu12.org
SUMMARY:Membership Meetings (hybrid zoom/in-person)
DESCRIPTION:
URL:https://opeiu12.org/event/membership-meetings-hybrid-zoom-in-person-5/
END:VEVENT
BEGIN:VEVENT
DTSTART;TZID=UTC:20250226T183000
DTEND;TZID=UTC:20250226T200000
DTSTAMP:20260420T064441
CREATED:20250214T003118Z
LAST-MODIFIED:20250214T003118Z
UID:10000010-1740594600-1740600000@opeiu12.org
SUMMARY:HealthPartners Strike School 6:30p-8p
DESCRIPTION:HealthPartners Strike School 6:30p-8p \n\nIN PERSON ONLY\n\nRegister:\nhttps://docs.google.com/forms/d/e/1FAIpQLScnlw2Ng6eDLlnINKAEYuzzMMNwvd0t3kebXtykeoMgLK4_-g/viewform \n 
URL:https://opeiu12.org/event/healthpartners-strike-school-630p-8p-2/
LOCATION:Carpenters Hall\, 710 Olive Street\, Saint Paul\, MN\, 55130\, United States
END:VEVENT
BEGIN:VEVENT
DTSTART;TZID=UTC:20250220T183000
DTEND;TZID=UTC:20250220T200000
DTSTAMP:20260420T064441
CREATED:20250214T002831Z
LAST-MODIFIED:20250214T003146Z
UID:10000009-1740076200-1740081600@opeiu12.org
SUMMARY:HealthPartners Strike School 6:30p-8p
DESCRIPTION:HealthPartners Strike School 6:30p-8p \n\nIN PERSON ONLY \n\nRegister:\nhttps://docs.google.com/forms/d/e/1FAIpQLScnlw2Ng6eDLlnINKAEYuzzMMNwvd0t3kebXtykeoMgLK4_-g/viewform
URL:https://opeiu12.org/event/healthpartners-strike-school-630p-8p/
LOCATION:Carpenters Hall\, 710 Olive Street\, Saint Paul\, MN\, 55130\, United States
END:VEVENT
BEGIN:VEVENT
DTSTART;TZID=UTC:20250219T090000
DTEND;TZID=UTC:20250219T220000
DTSTAMP:20260420T064441
CREATED:20250214T002728Z
LAST-MODIFIED:20250214T003244Z
UID:10000008-1739955600-1740002400@opeiu12.org
SUMMARY:HealthPartners Bargaining 9a-10p
DESCRIPTION:HealthPartners Bargaining 9a-10p
URL:https://opeiu12.org/event/healthpartners-bargaining-9a-10p/
LOCATION:HealthPartners Corporate Building\, 8170 33rd Ave S\, Bloomington\, MN\, 55425\, United States
END:VEVENT
BEGIN:VEVENT
DTSTART;TZID=UTC:20250218T090000
DTEND;TZID=UTC:20250218T170000
DTSTAMP:20260420T064441
CREATED:20250214T002643Z
LAST-MODIFIED:20250214T002643Z
UID:10000007-1739869200-1739898000@opeiu12.org
SUMMARY:HealthPartners Bargaining 9a-5p
DESCRIPTION:HealthPartners Bargaining 9a-5p
URL:https://opeiu12.org/event/healthpartners-bargaining-9a-5p/
LOCATION:HealthPartners Corporate Building\, 8170 33rd Ave S\, Bloomington\, MN\, 55425\, United States
END:VEVENT
BEGIN:VEVENT
DTSTART;TZID=UTC:20250211T090000
DTEND;TZID=UTC:20250211T170000
DTSTAMP:20260420T064441
CREATED:20250207T012157Z
LAST-MODIFIED:20250207T021952Z
UID:10000006-1739264400-1739293200@opeiu12.org
SUMMARY:HealthPartners bargaining
DESCRIPTION:
URL:https://opeiu12.org/event/healthpartners-bargaining-2/
LOCATION:OPEIU Local 12 Office\, 8170 33rd Ave S\, Bloomington\, MN\, 55425\, United States
END:VEVENT
BEGIN:VEVENT
DTSTART;TZID=UTC:20250210T090000
DTEND;TZID=UTC:20250210T170000
DTSTAMP:20260420T064441
CREATED:20250207T012120Z
LAST-MODIFIED:20250207T012210Z
UID:10000005-1739178000-1739206800@opeiu12.org
SUMMARY:HealthPartners bargaining
DESCRIPTION:
URL:https://opeiu12.org/event/healthpartners-bargaining/
LOCATION:OPEIU Local 12 Office\, 8170 33rd Ave S\, Bloomington\, MN\, 55425\, United States
END:VEVENT
BEGIN:VEVENT
DTSTART;TZID=UTC:20250207T100000
DTEND;TZID=UTC:20250207T200000
DTSTAMP:20260420T064441
CREATED:20250207T010352Z
LAST-MODIFIED:20250207T010352Z
UID:10000004-1738922400-1738958400@opeiu12.org
SUMMARY:Strike vote authorization for HealthPartners
DESCRIPTION:
URL:https://opeiu12.org/event/strike-vote-authorization-for-healthpartners-3/
LOCATION:OPEIU Local 12 Office\, 8170 33rd Ave S\, Bloomington\, MN\, 55425\, United States
END:VEVENT
BEGIN:VEVENT
DTSTART;TZID=UTC:20250206T150000
DTEND;TZID=UTC:20250206T210000
DTSTAMP:20260420T064441
CREATED:20250207T010316Z
LAST-MODIFIED:20250207T010316Z
UID:10000003-1738854000-1738875600@opeiu12.org
SUMMARY:Strike vote authorization for HealthPartners
DESCRIPTION:
URL:https://opeiu12.org/event/strike-vote-authorization-for-healthpartners-2/
LOCATION:Hyatt Regency Bloomington\, 3200 East 81st Street\, Bloomington\, MN\, 55425\, United States
END:VEVENT
BEGIN:VEVENT
DTSTART;TZID=UTC:20250205T153000
DTEND;TZID=UTC:20250205T210000
DTSTAMP:20260420T064441
CREATED:20250207T010240Z
LAST-MODIFIED:20250207T010240Z
UID:10000002-1738769400-1738789200@opeiu12.org
SUMMARY:Strike vote authorization for HealthPartners
DESCRIPTION:
URL:https://opeiu12.org/event/strike-vote-authorization-for-healthpartners/
LOCATION:Carpenters Hall\, 710 Olive Street\, Saint Paul\, MN\, 55130\, United States
END:VEVENT
BEGIN:VEVENT
DTSTART;TZID=UTC:20241215T080000
DTEND;TZID=UTC:20241215T170000
DTSTAMP:20260420T064441
CREATED:20241209T194051Z
LAST-MODIFIED:20241209T194242Z
UID:10000001-1734249600-1734282000@opeiu12.org
SUMMARY:Test Event
DESCRIPTION:This is a test event
URL:https://opeiu12.org/event/test-event/
END:VEVENT
END:VCALENDAR