BEGIN:VCALENDAR
VERSION:2.0
PRODID:-//OPEIU LOCAL 12 - ECPv6.15.20//NONSGML v1.0//EN
CALSCALE:GREGORIAN
METHOD:PUBLISH
X-WR-CALNAME:OPEIU LOCAL 12
X-ORIGINAL-URL:https://opeiu12.org
X-WR-CALDESC:Events for OPEIU LOCAL 12
REFRESH-INTERVAL;VALUE=DURATION:PT1H
X-Robots-Tag:noindex
X-PUBLISHED-TTL:PT1H
BEGIN:VTIMEZONE
TZID:UTC
BEGIN:STANDARD
TZOFFSETFROM:+0000
TZOFFSETTO:+0000
TZNAME:UTC
DTSTART:20240101T000000
END:STANDARD
END:VTIMEZONE
BEGIN:VEVENT
DTSTART;TZID=UTC:20250206T150000
DTEND;TZID=UTC:20250206T210000
DTSTAMP:20260422T121701
CREATED:20250207T010316Z
LAST-MODIFIED:20250207T010316Z
UID:10000003-1738854000-1738875600@opeiu12.org
SUMMARY:Strike vote authorization for HealthPartners
DESCRIPTION:
URL:https://opeiu12.org/event/strike-vote-authorization-for-healthpartners-2/
LOCATION:Hyatt Regency Bloomington\, 3200 East 81st Street\, Bloomington\, MN\, 55425\, United States
END:VEVENT
END:VCALENDAR